BEGIN:VCALENDAR
VERSION:2.0
PRODID:-//Plone.org//NONSGML plone.app.event//EN
X-WR-TIMEZONE:Brazil/East
BEGIN:VEVENT
SUMMARY: RSol SRE
DTSTART;TZID=Brazil/East;VALUE=DATE-TIME:20251118T190000
DTEND;TZID=Brazil/East;VALUE=DATE-TIME:20251118T210000
DTSTAMP;VALUE=DATE-TIME:20260420T200922Z
UID:b37d88110e4548ee8aaaccada587b975@www.unai.mg.leg.br
CREATED;VALUE=DATE-TIME:20251114T192147Z
DESCRIPTION:9ª Reunião Solene da 1ª Sessão Legislativa da 20ª Legisla
 tura\n
LAST-MODIFIED;VALUE=DATE-TIME:20251114T192152Z
LOCATION:Plenário Antônio Pereira dos Santos
URL:https://www.unai.mg.leg.br/institucional/agenda_camara_de_unai/rsol-sr
 e
END:VEVENT
BEGIN:VTIMEZONE
TZID:Brazil/East
X-LIC-LOCATION:Brazil/East
BEGIN:DAYLIGHT
DTSTART;VALUE=DATE-TIME:20251019T010000
TZNAME:BRST
TZOFFSETFROM:-0300
TZOFFSETTO:-0200
END:DAYLIGHT
END:VTIMEZONE
END:VCALENDAR
